BEGIN:VCALENDAR
VERSION:2.0
PRODID:-//pretix//ESN_Uni_Wien//
BEGIN:VTIMEZONE
TZID:Europe/Vienna
BEGIN:STANDARD
DTSTART:20001029T040000
RRULE:FREQ=YEARLY;BYDAY=-1SU;BYMONTH=10
TZNAME:CET
TZOFFSETFROM:+0200
TZOFFSETTO:+0100
END:STANDARD
BEGIN:DAYLIGHT
DTSTART:20000326T030000
RRULE:FREQ=YEARLY;BYDAY=-1SU;BYMONTH=3
TZNAME:CEST
TZOFFSETFROM:+0100
TZOFFSETTO:+0200
END:DAYLIGHT
END:VTIMEZONE
BEGIN:VEVENT
UID:pretix-uw-3tltn-0@tickets.esnuniwien.com
DTSTART;TZID=Europe/Vienna:20250227T143000
DTEND;TZID=Europe/Vienna:20250227T153000
DESCRIPTION:Tickets: https://tickets.esnuniwien.com/uw/3tltn/\nOrganizer: E
 SN Uni Wien
DTSTAMP:20260420T075007Z
LOCATION:Wagramer Straße 5\, 1220 Vienna\, Austria\, Visitors Entrance is 
 located right next to the "Kaisermühlen/Vienna International Centre" U-Ba
 hn stop.
SUMMARY:UN Guided Tour with ESN
END:VEVENT
END:VCALENDAR
