BEGIN:VCALENDAR
VERSION:2.0
PRODID:-//pretix//ESN_Uni_Wien//
BEGIN:VTIMEZONE
TZID:Europe/Vienna
BEGIN:STANDARD
DTSTART:20001029T040000
RRULE:FREQ=YEARLY;BYDAY=-1SU;BYMONTH=10
TZNAME:CET
TZOFFSETFROM:+0200
TZOFFSETTO:+0100
END:STANDARD
BEGIN:DAYLIGHT
DTSTART:20000326T030000
RRULE:FREQ=YEARLY;BYDAY=-1SU;BYMONTH=3
TZNAME:CEST
TZOFFSETFROM:+0100
TZOFFSETTO:+0200
END:DAYLIGHT
END:VTIMEZONE
BEGIN:VEVENT
UID:pretix-uw-9umr9-0@tickets.esnuniwien.com
DTSTART;TZID=Europe/Vienna:20260319T094000
DTEND;TZID=Europe/Vienna:20260319T110000
DESCRIPTION:Tickets: https://tickets.esnuniwien.com/uw/9umr9/\nOrganizer: E
 SN Uni Wien
DTSTAMP:20260423T200011Z
LOCATION:Rathaus\, Friedrich-Schmidt-Platz 1\, 1010 Wien (It is the same en
 trance for Stadtinformation/ Stadtservice Wien)
SUMMARY:A visit of the famous „Rathaus“ with ESN
END:VEVENT
END:VCALENDAR
