BEGIN:VCALENDAR
VERSION:2.0
PRODID:-//pretix//ESN_Uni_Wien//
BEGIN:VTIMEZONE
TZID:Europe/Vienna
BEGIN:STANDARD
DTSTART:20001029T040000
RRULE:FREQ=YEARLY;BYDAY=-1SU;BYMONTH=10
TZNAME:CET
TZOFFSETFROM:+0200
TZOFFSETTO:+0100
END:STANDARD
BEGIN:DAYLIGHT
DTSTART:20000326T030000
RRULE:FREQ=YEARLY;BYDAY=-1SU;BYMONTH=3
TZNAME:CEST
TZOFFSETFROM:+0100
TZOFFSETTO:+0200
END:DAYLIGHT
END:VTIMEZONE
BEGIN:VEVENT
UID:pretix-uw-mjx3j-0@tickets.esnuniwien.com
DTSTART;TZID=Europe/Vienna:20250925T140000
DTEND;TZID=Europe/Vienna:20250925T160000
DESCRIPTION:Tickets: https://tickets.esnuniwien.com/uw/mjx3j/\nOrganizer: E
 SN Uni Wien
DTSTAMP:20260419T160716Z
LOCATION:ESN office in NIG\, Universitätsstraße 7\, 1010 Wien
SUMMARY:Let´s make friends and talk Erasmus
END:VEVENT
END:VCALENDAR
