BEGIN:VCALENDAR
VERSION:2.0
PRODID:-//pretix//ESN_Uni_Wien//
BEGIN:VTIMEZONE
TZID:Europe/Vienna
BEGIN:STANDARD
DTSTART:20001029T040000
RRULE:FREQ=YEARLY;BYDAY=-1SU;BYMONTH=10
TZNAME:CET
TZOFFSETFROM:+0200
TZOFFSETTO:+0100
END:STANDARD
BEGIN:DAYLIGHT
DTSTART:20000326T030000
RRULE:FREQ=YEARLY;BYDAY=-1SU;BYMONTH=3
TZNAME:CEST
TZOFFSETFROM:+0100
TZOFFSETTO:+0200
END:DAYLIGHT
END:VTIMEZONE
BEGIN:VEVENT
UID:pretix-uw-mxzmd-0@tickets.esnuniwien.com
DTSTART;TZID=Europe/Vienna:20260308T104500
DTEND;TZID=Europe/Vienna:20260308T120000
DESCRIPTION:Tickets: https://tickets.esnuniwien.com/uw/mxzmd/\nOrganizer: E
 SN Uni Wien
DTSTAMP:20260423T030044Z
LOCATION:Our meeting point is the beginning of Prater Park ( 5-10 min walk 
 from Praterstern station )\, https://maps.app.goo.gl/uw27dCF68Rdzp6hv5?g_s
 t=iw
SUMMARY:Run & Coffee with ESN
END:VEVENT
END:VCALENDAR
