BEGIN:VCALENDAR
VERSION:2.0
PRODID:-//pretix//ESN_Uni_Wien//
BEGIN:VTIMEZONE
TZID:Europe/Vienna
BEGIN:STANDARD
DTSTART:20001029T040000
RRULE:FREQ=YEARLY;BYDAY=-1SU;BYMONTH=10
TZNAME:CET
TZOFFSETFROM:+0200
TZOFFSETTO:+0100
END:STANDARD
BEGIN:DAYLIGHT
DTSTART:20000326T030000
RRULE:FREQ=YEARLY;BYDAY=-1SU;BYMONTH=3
TZNAME:CEST
TZOFFSETFROM:+0100
TZOFFSETTO:+0200
END:DAYLIGHT
END:VTIMEZONE
BEGIN:VEVENT
UID:pretix-uw-y9zzu-0@tickets.esnuniwien.com
DTSTART;TZID=Europe/Vienna:20250928T180000
DTEND;TZID=Europe/Vienna:20250928T193000
DESCRIPTION:Tickets: https://tickets.esnuniwien.com/uw/y9zzu/\nOrganizer: E
 SN Uni Wien
DTSTAMP:20260419T221209Z
LOCATION:Down Under Aussi Bar - Magdalenenstraße 32 (close to U4 Pilgramga
 sse)
SUMMARY:Salsa Workshop 2 with ESN
END:VEVENT
END:VCALENDAR
