BEGIN:VCALENDAR
VERSION:2.0
PRODID:-//pretix//ESN_Uni_Wien//
BEGIN:VTIMEZONE
TZID:Europe/Vienna
BEGIN:STANDARD
DTSTART:20001029T040000
RRULE:FREQ=YEARLY;BYDAY=-1SU;BYMONTH=10
TZNAME:CET
TZOFFSETFROM:+0200
TZOFFSETTO:+0100
END:STANDARD
BEGIN:DAYLIGHT
DTSTART:20000326T030000
RRULE:FREQ=YEARLY;BYDAY=-1SU;BYMONTH=3
TZNAME:CEST
TZOFFSETFROM:+0100
TZOFFSETTO:+0200
END:DAYLIGHT
END:VTIMEZONE
BEGIN:VEVENT
UID:pretix-uw-zbz8m-0@tickets.esnuniwien.com
DTSTART;TZID=Europe/Vienna:20250923T153000
DTEND;TZID=Europe/Vienna:20250923T173000
DESCRIPTION:Tickets: https://tickets.esnuniwien.com/uw/zbz8m/\nOrganizer: E
 SN Uni Wien
DTSTAMP:20260419T143912Z
LOCATION:Austrian Parliament\, Parliament\, 1017 Vienna\, Dr. Karl Renner-R
 ing 3\, Main entrance behind the Pallas Athena Fountain
SUMMARY:Parliament Tour with ESN
END:VEVENT
END:VCALENDAR
